BEGIN:VCALENDAR
VERSION:2.0
PRODID:-//Squarespace Inc/Squarespace 6//v6//EN
BEGIN:VEVENT
UID:5620f053e4b03b7af47cd570@squarespace.com
DTSTAMP:20190829T031409Z
DTSTART:20151114T040000Z
DTEND:20151114T060000Z
SUMMARY:Yin Afternoon Delight with Live Music!
GEO:-27.445248;153.175892
LOCATION:Inna Bliss Yoga\, Level 2\, 182 Bay Terrace\, Wynnum\, Australia
END:VEVENT
END:VCALENDAR
