BEGIN:VCALENDAR
VERSION:2.0
PRODID:-//Squarespace Inc/Squarespace 6//v6//EN
BEGIN:VEVENT
UID:564e69cae4b059898872678c@squarespace.com
DTSTAMP:20151120T003853Z
DTSTART:20160116T060000Z
DTEND:20160220T071500Z
SUMMARY:Meditation 6 week course
GEO:-27.450742;153.05495
LOCATION:Inna Bliss Yoga Bulimba\, 59 Oxford Street\, Bulimba\, QLD\, 4171\
 , Australia
END:VEVENT
END:VCALENDAR
