BEGIN:VCALENDAR
VERSION:2.0
PRODID:-//Squarespace Inc/Squarespace 6//v6//EN
BEGIN:VEVENT
UID:568449c6cbced6a01575a00b@squarespace.com
DTSTAMP:20151230T231119Z
DTSTART:20160110T040000Z
DTEND:20160110T060000Z
SUMMARY:Yoga Detoxing Workshop
GEO:-27.445248;153.175892
LOCATION:Inna Bliss Yoga\, Level 2 182 Bay terrace\, Brisbane\, Wynnum
END:VEVENT
END:VCALENDAR
