BEGIN:VCALENDAR
VERSION:2.0
PRODID:-//Squarespace Inc/Squarespace 6//v6//EN
BEGIN:VEVENT
UID:57f2fa87f5e2317842841175@squarespace.com
DTSTAMP:20161004T010257Z
DTSTART:20161022T050000Z
DTEND:20161119T060000Z
SUMMARY:Meditating Simply & Naturally - 5 week course
GEO:-27.44521;153.175958
LOCATION:Inna Bliss Yoga - Wynnum\, 2/182 Bay Terrace\, Wynnum\, QLD\, 4178
 \, Australia
END:VEVENT
END:VCALENDAR
