BEGIN:VCALENDAR
VERSION:2.0
PRODID:-//Squarespace Inc/Squarespace 6//v6//EN
BEGIN:VEVENT
UID:57e1db1b8419c298291950b2@squarespace.com
DTSTAMP:20180117T064254Z
DTSTART:20180129T054500Z
DTEND:20180129T063000Z
SUMMARY:Kids Yoga Term 5-8 yrs
GEO:-27.451085;153.054721
LOCATION:Inna Bliss Yoga\, 1/59 Oxford St\, Bulimba\, Australia
END:VEVENT
END:VCALENDAR
