BEGIN:VCALENDAR
VERSION:2.0
PRODID:-//Squarespace Inc/Squarespace 6//v6//EN
BEGIN:VEVENT
UID:5722bec6044262921a0ec552@squarespace.com
DTSTAMP:20161010T030319Z
DTSTART:20161104T090000Z
DTEND:20161104T110000Z
SUMMARY:Chakra Healing Workshop with Kellie Judd
GEO:-27.497561;153.068278
LOCATION:Inna Bliss Yoga - Camp Hill\, 4/6 Newman Avenue\, Camp Hill\, QLD\
 , 4152\, Australia
END:VEVENT
END:VCALENDAR
