BEGIN:VCALENDAR
VERSION:2.0
PRODID:-//Squarespace Inc/Squarespace 6//v6//EN
BEGIN:VEVENT
UID:5722c5382fe1315d391c8005@squarespace.com
DTSTAMP:20190313T021753Z
DTSTART:20190407T023000Z
DTEND:20190407T043000Z
SUMMARY:Restorative Masterclass with Marian Cavanagh
GEO:-27.497561;153.068278
LOCATION:Inna Bliss Yoga – Camp Hill\, 6 Newman Avenue\, Camp Hill\, QLD\, 
 4152\, Australia
END:VEVENT
END:VCALENDAR
