BEGIN:VCALENDAR
VERSION:2.0
PRODID:-//Squarespace Inc/Squarespace 6//v6//EN
BEGIN:VEVENT
UID:574b8f8b45bf21f86909634b@squarespace.com
DTSTAMP:20160608T080504Z
DTSTART:20160618T070000Z
DTEND:20160618T083000Z
SUMMARY:Mantra Yoga with Kirtan Brisbane!
GEO:-27.450997;153.054748
LOCATION:Inna Bliss Yoga - Bulimba\, 57-59 Oxford Street\, Bulimba\, QLD\, 
 4171\, Australia
END:VEVENT
END:VCALENDAR
