BEGIN:VCALENDAR
VERSION:2.0
PRODID:-//Squarespace Inc/Squarespace 6//v6//EN
BEGIN:VEVENT
UID:56fb4d334d088ebedd91d7d4@squarespace.com
DTSTAMP:20170310T004239Z
DTSTART:20170429T021500Z
DTEND:20170429T051500Z
SUMMARY:Foundations of Flow with Marty Collyer
GEO:-27.450997;153.054748
LOCATION:Inna Bliss Yoga - Bulimba\, 57-59 Oxford Street\, Bulimba\, QLD\, 
 4171\, Australia
END:VEVENT
END:VCALENDAR
