BEGIN:VCALENDAR
VERSION:2.0
PRODID:-//Squarespace Inc/Squarespace 6//v6//EN
BEGIN:VEVENT
UID:575b8bea2fe1319c6d2a0a44@squarespace.com
DTSTAMP:20160619T035029Z
DTSTART:20160630T200000Z
DTEND:20160730T210000Z
SUMMARY:Say YES to You! - Yoga & self-care challenge
END:VEVENT
END:VCALENDAR
