BEGIN:VCALENDAR
VERSION:2.0
PRODID:-//Squarespace Inc/Squarespace 6//v6//EN
BEGIN:VEVENT
UID:57d5e42320099e97b490d255@squarespace.com
DTSTAMP:20160913T022902Z
DTSTART:20161015T073000Z
DTEND:20161015T083000Z
SUMMARY:Mantra Meditation with Kirtan Brisbane!
GEO:-27.451085;153.054721
LOCATION:Inna Bliss Yoga\, 1/59 Oxford St\, Bulimba\, Australia
END:VEVENT
END:VCALENDAR
