BEGIN:VCALENDAR
VERSION:2.0
PRODID:-//Squarespace Inc/Squarespace 6//v6//EN
BEGIN:VEVENT
UID:57d0d11ce58c62cb841b926e@squarespace.com
DTSTAMP:20191110T022417Z
DTSTART:20200302T223000Z
DTEND:20200531T060000Z
SUMMARY:LIVE YOUR BLISS - Level 1 Yoga Teacher Training 2020
GEO:-27.497484;153.068073
LOCATION:Inna Bliss Yoga - Camp Hill\, 4 Newman Avenue\, Camp Hill\, Austra
 lia
END:VEVENT
END:VCALENDAR
