BEGIN:VCALENDAR
VERSION:2.0
PRODID:-//Squarespace Inc/Squarespace 6//v6//EN
BEGIN:VEVENT
UID:59bf4a401f318d622879ead9@squarespace.com
DTSTAMP:20170918T052946Z
DTSTART:20171118T020000Z
DTEND:20171118T050000Z
SUMMARY:Honouring The Cycle – a yoga and menstrual health workshop 
GEO:-27.451085;153.054721
LOCATION:Inna Bliss Yoga - Bulimba\, 1/59 Oxford St\, Bulimba
END:VEVENT
END:VCALENDAR
