BEGIN:VCALENDAR
VERSION:2.0
PRODID:-//Squarespace Inc/Squarespace 6//v6//EN
BEGIN:VEVENT
UID:5869deee725e25a972aa2867@squarespace.com
DTSTAMP:20180726T002602Z
DTSTART:20180912T091500Z
DTEND:20180912T103000Z
SUMMARY:Learn to Meditate - 6 week course with Alison Potts 
GEO:-27.451086;153.054715
LOCATION:Inna Bliss Yoga - Bulimba\, 1/59 Oxford Street\, Bulimba\, QLD\, 4
 171\, Australia
END:VEVENT
END:VCALENDAR
