BEGIN:VCALENDAR
VERSION:2.0
PRODID:-//Squarespace Inc/Squarespace 6//v6//EN
BEGIN:VEVENT
UID:58a63408414fb56f8ea7385e@squarespace.com
DTSTAMP:20190923T043958Z
DTSTART:20200604T050000Z
DTEND:20200607T020000Z
SUMMARY:Nourish Your Soul - Winter retreat
GEO:-28.50412;153.471151
LOCATION:Wybalena Organic Farm\, The Pocket Road\, The Pocket\, NSW\, 2483\
 , Australia
END:VEVENT
END:VCALENDAR
