BEGIN:VCALENDAR
VERSION:2.0
PRODID:-//Squarespace Inc/Squarespace 6//v6//EN
BEGIN:VEVENT
UID:58b4eda9e4fcb5991e705534@squarespace.com
DTSTAMP:20170310T002828Z
DTSTART:20170316T011500Z
DTEND:20170316T031500Z
SUMMARY:Led Practice
GEO:-27.451508;153.06059
LOCATION:Inna Bliss Yoga - Bulimba
END:VEVENT
END:VCALENDAR
