BEGIN:VCALENDAR
VERSION:2.0
PRODID:-//Squarespace Inc/Squarespace 6//v6//EN
BEGIN:VEVENT
UID:58c5f454197aea79a9ba6575@squarespace.com
DTSTAMP:20170313T013010Z
DTSTART:20170510T091500Z
DTEND:20170510T103000Z
SUMMARY:Full Moon Meditation with Alison Potts
GEO:-27.451085;153.054721
LOCATION:Inna Bliss Yoga Bulimba\, 57 - 59 Oxford St\, Bulimba\, Australia
END:VEVENT
END:VCALENDAR
