BEGIN:VCALENDAR
VERSION:2.0
PRODID:-//Squarespace Inc/Squarespace 6//v6//EN
BEGIN:VEVENT
UID:58f7459b59cc681f3e8362c1@squarespace.com
DTSTAMP:20170419T111545Z
DTSTART:20170513T020000Z
DTEND:20170513T050000Z
SUMMARY:A Shamanic Journey & Vinyasa Flow - Reclaim Your Destiny
GEO:-27.451085;153.054721
LOCATION:Inna Bliss Yoga - Bulimba\, 1/59 Oxford St\, Bulimba\, Australia
END:VEVENT
END:VCALENDAR
