BEGIN:VCALENDAR
VERSION:2.0
PRODID:-//Squarespace Inc/Squarespace 6//v6//EN
BEGIN:VEVENT
UID:593a26ac9f745638eecbe087@squarespace.com
DTSTAMP:20170609T044517Z
DTSTART:20170715T020000Z
DTEND:20170715T050000Z
SUMMARY:Invoking Joy - A Meditation Workshop
GEO:-27.451085;153.054721
LOCATION:Inna Bliss Yoga - Bulimba\, 1/59 Oxford Street\, Bulimba\, QLD\, 4
 171\, Australia
END:VEVENT
END:VCALENDAR
