BEGIN:VCALENDAR
VERSION:2.0
PRODID:-//Squarespace Inc/Squarespace 6//v6//EN
BEGIN:VEVENT
UID:58d4a047ebbd1a1fe2036286@squarespace.com
DTSTAMP:20170711T005155Z
DTSTART:20170805T000000Z
DTEND:20170806T023000Z
SUMMARY:A weekend with Les Leventhal
GEO:-27.451086;153.054715
LOCATION:Inna Bliss Yoga - Bulimba\, 1/59 Oxford Street\, Bulimba\, QLD\, 4
 171\, Australia
END:VEVENT
END:VCALENDAR
