BEGIN:VCALENDAR
VERSION:2.0
PRODID:-//Squarespace Inc/Squarespace 6//v6//EN
BEGIN:VEVENT
UID:5a6d164ee2c4832dd2a33f55@squarespace.com
DTSTAMP:20180222T012700Z
DTSTART:20180303T023000Z
DTEND:20180303T053000Z
SUMMARY:Freedom & Fluidity In Your Spine **1 SPOT LEFT** call to book
GEO:-27.451086;153.05472
LOCATION:Inna Bliss Yoga - Bulimba\, 1/57 Oxford Street\, Bulimba\, QLD\, 4
 171\, Australia
END:VEVENT
END:VCALENDAR
