BEGIN:VCALENDAR
VERSION:2.0
PRODID:-//Squarespace Inc/Squarespace 6//v6//EN
BEGIN:VEVENT
UID:5b68ef701ae6cf304f489428@squarespace.com
DTSTAMP:20180917T021418Z
DTSTART:20180922T030000Z
DTEND:20180922T060000Z
SUMMARY:Yoga and Menopause workshop
END:VEVENT
END:VCALENDAR
