BEGIN:VCALENDAR
VERSION:2.0
PRODID:-//Squarespace Inc/Squarespace 6//v6//EN
BEGIN:VEVENT
UID:5b68ed822b6a28624c04169a@squarespace.com
DTSTAMP:20180829T080913Z
DTSTART:20180930T020000Z
DTEND:20180930T050000Z
SUMMARY:Freedom & Fluidity in your Spine
END:VEVENT
END:VCALENDAR
