BEGIN:VCALENDAR
VERSION:2.0
PRODID:-//Squarespace Inc/Squarespace 6//v6//EN
BEGIN:VEVENT
UID:5d67441c8fc07e000163f2f8@squarespace.com
DTSTAMP:20190930T034431Z
DTSTART:20191006T023000Z
DTEND:20191006T043000Z
SUMMARY:Cutt the fuss and get yin to it!  ( A Yin workshop with Kye Cole )
GEO:-27.497484;153.068073
LOCATION:Inna Bliss Yoga\, 4 Newman Avenue\, Camp Hill\, QLD\, 4152\, Austr
 alia
END:VEVENT
END:VCALENDAR
