BEGIN:VCALENDAR
VERSION:2.0
PRODID:-//Squarespace Inc/Squarespace 6//v6//EN
BEGIN:VEVENT
UID:5d3f93bc45951f0001da3fe0@squarespace.com
DTSTAMP:20191002T031902Z
DTSTART:20191111T223000Z
DTEND:20191117T050000Z
SUMMARY:Yin Yoga Teacher Training - 50 Hours
GEO:-27.497484;153.068073
LOCATION:Inna Bliss Camp Hill\, 4 Newman Ave\, Camp Hill\, Australia
END:VEVENT
END:VCALENDAR
