BEGIN:VCALENDAR
VERSION:2.0
PRODID:-//Squarespace Inc/Squarespace 6//v6//EN
BEGIN:VEVENT
UID:5dd6099ddda0127101b1b66e@squarespace.com
DTSTAMP:20191129T045954Z
DTSTART:20191130T083000Z
DTEND:20191130T100000Z
SUMMARY:Kirtan for charity
GEO:-27.497484;153.068073
LOCATION:INNA BLISS YOGA\, 4 Newman Avenue\, Camp Hill\, QLD\, 4152\, Austr
 alia
END:VEVENT
END:VCALENDAR
