BEGIN:VCALENDAR
VERSION:2.0
PRODID:-//Squarespace Inc/Squarespace 6//v6//EN
BEGIN:VEVENT
UID:5c6b4d214785d32318cc1ac1@squarespace.com
DTSTAMP:20190219T003049Z
DTSTART:20190324T013000Z
DTEND:20190324T033000Z
SUMMARY:Balance and Harmony with Essential Oils
GEO:-27.451372;153.059413
LOCATION:Inna Bliss Yoga\, 1/57 Oxford Street\, Bulimba\, QLD\, 4171\, Aust
 ralia
END:VEVENT
END:VCALENDAR
