BEGIN:VCALENDAR
VERSION:2.0
PRODID:-//Squarespace Inc/Squarespace 6//v6//EN
BEGIN:VEVENT
UID:575b831862cd94a49a6cfe61@squarespace.com
DTSTAMP:20190618T034536Z
DTSTART:20190623T030000Z
DTEND:20190623T050000Z
SUMMARY:I am Fabulous workshop with Andrea Westbrook
GEO:-27.451083;153.054716
LOCATION:Inna Bliss Yoga Bulimba\, 57 Oxford Street\, Bulimba\, QLD\, 4171\
 , Australia
END:VEVENT
END:VCALENDAR
