BEGIN:VCALENDAR
VERSION:2.0
PRODID:-//Squarespace Inc/Squarespace 6//v6//EN
BEGIN:VEVENT
UID:5d563437a7e1f90001a0612d@squarespace.com
DTSTAMP:20190816T044936Z
DTSTART:20190908T020000Z
DTEND:20190908T040000Z
SUMMARY:PROPlem solve your practice!  with Kye Cole
GEO:-27.451083;153.054716
LOCATION:Inna Bliss Yoga\, 57 Oxford Street\, Bulimba\, QLD\, 4171\, Austra
 lia
END:VEVENT
END:VCALENDAR
