BEGIN:VCALENDAR
VERSION:2.0
PRODID:-//Squarespace Inc/Squarespace 6//v6//EN
BEGIN:VEVENT
UID:5aea6e088a922d7249ce5b92@squarespace.com
DTSTAMP:20181204T042140Z
DTSTART:20181223T081500Z
DTEND:20181223T101500Z
SUMMARY:Yin &amp\; Cello: Rest In Natural Peace
GEO:-27.445362;153.175668
LOCATION:Inna Bliss Yoga - Wynnum\, 182 Bay Terrace\, Wynnum\, QLD\, Austra
 lia
END:VEVENT
END:VCALENDAR
