BEGIN:VCALENDAR
VERSION:2.0
PRODID:-//Squarespace Inc/Squarespace 6//v6//EN
BEGIN:VEVENT
UID:59d1ad0e8fd4d2d3f20eff21@squarespace.com
DTSTAMP:20191204T042034Z
DTSTART:20191103T000000Z
DTEND:20191103T020000Z
SUMMARY:Sacred Sound &amp\; Restorative Yoga - Wynnum
GEO:-27.445374;153.175678
LOCATION:Inna Bliss Yoga - Wynnum\, 2/182 Bay Terrace\, Wynnum\, QLD\, 4178
 \, Australia
END:VEVENT
END:VCALENDAR
