BEGIN:VCALENDAR
VERSION:2.0
PRODID:-//Squarespace Inc/Squarespace 6//v6//EN
BEGIN:VEVENT
UID:58802a1dd1758eebe0e6cdd5@squarespace.com
DTSTAMP:20190703T044220Z
DTSTART:20190818T003000Z
DTEND:20190818T040000Z
SUMMARY:Nourishment Experience with Stacey Turner
GEO:-27.445362;153.175668
LOCATION:Inna Bliss Yoga - Wynnum\, 2/182 Bay Terrace\, Wynnum\, QLD\, 4178
 \, Australia
END:VEVENT
END:VCALENDAR
