BEGIN:VCALENDAR
VERSION:2.0
PRODID:-//Squarespace Inc/Squarespace 6//v6//EN
BEGIN:VEVENT
UID:5b176fbb03ce6412864b22e3@squarespace.com
DTSTAMP:20190205T044420Z
DTSTART:20190316T040000Z
DTEND:20190316T060000Z
SUMMARY:Finding stillness through handstands with Emily
GEO:-27.445362;153.175668
LOCATION:Inna Bliss Yoga - Wynnum\, 182 Bay Terrace\, Wynnum\, QLD\, 4178\, 
 Australia
END:VEVENT
END:VCALENDAR
