BEGIN:VCALENDAR
VERSION:2.0
PRODID:-//Squarespace Inc/Squarespace 6//v6//EN
BEGIN:VEVENT
UID:58c1f7893e00be4c00808208@squarespace.com
DTSTAMP:20190612T053452Z
DTSTART:20190629T030000Z
DTEND:20190629T050000Z
SUMMARY:Meditation &amp\; Relax Workshop
GEO:-27.497484;153.068073
LOCATION:Inna Bliss Yoga - Camp Hill\, 4 Newman Avenue\, Camp Hill\, QLD\, 
 4152\, Australia
END:VEVENT
END:VCALENDAR
