BEGIN:VCALENDAR
VERSION:2.0
PRODID:-//Squarespace Inc/Squarespace 6//v6//EN
BEGIN:VEVENT
UID:5dedca315e5ce97f94f319aa@squarespace.com
DTSTAMP:20200203T035524Z
DTSTART:20200222T080000Z
DTEND:20200222T093000Z
SUMMARY:Women's Circle with Katie West
GEO:-27.497484;153.068073
LOCATION:Inna Bliss Yoga\, 4 Newman Avenue\, Camp Hill\, QLD\, 4152\, Austr
 alia
END:VEVENT
END:VCALENDAR
