BEGIN:VCALENDAR
VERSION:2.0
PRODID:-//Squarespace Inc/Squarespace 6//v6//EN
BEGIN:VEVENT
UID:5e1690435c0f5f1d47bb7d4d@squarespace.com
DTSTAMP:20200122T034619Z
DTSTART:20200126T040000Z
DTEND:20200126T050000Z
SUMMARY:Australia Day Meditation for Bushfires – with Alison Potts
GEO:-27.451083;153.054716
LOCATION:Inna Bliss Yoga Bulimba\, 57 Oxford Street\, Bulimba\, QLD\, 4171\
 , Australia
END:VEVENT
END:VCALENDAR
