BEGIN:VCALENDAR
VERSION:2.0
PRODID:-//Squarespace Inc/Squarespace 6//v6//EN
BEGIN:VEVENT
UID:5bbc19ace2c483cbb09b90c6@squarespace.com
DTSTAMP:20190212T051303Z
DTSTART:20190508T091500Z
DTEND:20190619T103000Z
SUMMARY:Empowering Intuition with Alison Potts
GEO:-27.451083;153.054716
LOCATION:Inna Bliss Yoga\, 57 Oxford St\, Bulimba
END:VEVENT
END:VCALENDAR
