BEGIN:VCALENDAR
VERSION:2.0
PRODID:-//Squarespace Inc/Squarespace 6//v6//EN
BEGIN:VEVENT
UID:5e2148df599a244d6bbb1166@squarespace.com
DTSTAMP:20200119T023829Z
DTSTART:20200222T023000Z
DTEND:20200222T053000Z
SUMMARY:Uplifted: Meditating with Joy and Pleasure (with Alison Potts)
GEO:-27.451083;153.054716
LOCATION:Inna Bliss Yoga Bulimba\, 57 Oxford Street\, Bulimba\, QLD\, 4171\
 , Australia
END:VEVENT
END:VCALENDAR
