BEGIN:VCALENDAR
VERSION:2.0
PRODID:-//Squarespace Inc/Squarespace 6//v6//EN
BEGIN:VEVENT
UID:57a7ebda440243dad48e5685@squarespace.com
DTSTAMP:20200226T021444Z
DTSTART:20200308T081500Z
DTEND:20200308T093000Z
SUMMARY:Full Moon Meditation with Alison Potts - Bulimba
GEO:-27.451372;153.059413
LOCATION:Inna Bliss Yoga - Bulimba\, 1/57 Oxford Street\, Bulimba\, QLD\, 4
 171\, Australia
END:VEVENT
END:VCALENDAR
