BEGIN:VCALENDAR
VERSION:2.0
PRODID:-//Squarespace Inc/Squarespace 6//v6//EN
BEGIN:VEVENT
UID:5e4e123c21989a778bc08882@squarespace.com
DTSTAMP:20200226T021550Z
DTSTART:20200322T020000Z
DTEND:20200322T050000Z
SUMMARY:Dance of the Deities – Saraswati Dance  with Andrew Mournehis
GEO:-27.451083;153.054716
LOCATION:Inna Bliss Yoga\, 57 Oxford Street\, Bulimba\, QLD\, 4171\, Austra
 lia
END:VEVENT
END:VCALENDAR
