BEGIN:VCALENDAR
VERSION:2.0
PRODID:-//Squarespace Inc/Squarespace 6//v6//EN
BEGIN:VEVENT
UID:5d9d757c367c9e460ebe10a2@squarespace.com
DTSTAMP:20191220T065037Z
DTSTART:20200215T020000Z
DTEND:20200215T053000Z
SUMMARY:Explore and restore the pelvic floor with Lisa Fitzpatrick
GEO:-27.451083;153.054716
LOCATION:Inna Bliss Yoga\, 57 Oxford Street\, Bulimba\, QLD\, 4171\, Austra
 lia
END:VEVENT
END:VCALENDAR
