BEGIN:VCALENDAR
VERSION:2.0
PRODID:-//Squarespace Inc/Squarespace 6//v6//EN
BEGIN:VEVENT
UID:58c1efa23a04110deee72001@squarespace.com
DTSTAMP:20200219T043219Z
DTSTART:20200304T090000Z
DTEND:20200408T101500Z
SUMMARY:Beginner Yoga Course - Wynnum
GEO:-27.445376;153.175677
LOCATION:Inna Bliss Yoga - Wynnum\, 2/182 Bay Tce\, Wynnum\, Australia
END:VEVENT
END:VCALENDAR
