BEGIN:VCALENDAR
VERSION:2.0
PRODID:-//Squarespace Inc/Squarespace 6//v6//EN
BEGIN:VEVENT
UID:5881e1c5e4fcb52dcfab2f39@squarespace.com
DTSTAMP:20200219T043100Z
DTSTART:20200303T091500Z
DTEND:20200407T103000Z
SUMMARY:Beginner Yoga Course - Camp Hill
GEO:-27.497484;153.068073
LOCATION:Inna Bliss Yoga - Camp Hill\, 4 Newman Avenue\, Camp Hill\, QLD\, 
 4152\, Australia
END:VEVENT
END:VCALENDAR
