BEGIN:VCALENDAR
VERSION:2.0
PRODID:-//Squarespace Inc/Squarespace 6//v6//EN
BEGIN:VEVENT
UID:58c1f112414fb50164f1c856@squarespace.com
DTSTAMP:20200219T043322Z
DTSTART:20200305T074500Z
DTEND:20200409T090000Z
SUMMARY:Beginner Yoga Course - Bulimba
GEO:-27.451086;153.054715
LOCATION:Inna Bliss Yoga - Bulimba\, 1/59 Oxford Street\, Bulimba\, QLD\, 4
 171\, Australia
END:VEVENT
END:VCALENDAR
