BEGIN:VCALENDAR
VERSION:2.0
PRODID:-//Squarespace Inc/Squarespace 6//v6//EN
BEGIN:VEVENT
UID:5955d7c8414fb59d5572a291@squarespace.com
DTSTAMP:20190614T040557Z
DTSTART:20190716T053000Z
DTEND:20190917T061500Z
SUMMARY:Kids Yoga Term Level 2 (7-10 yrs)
END:VEVENT
END:VCALENDAR
