BEGIN:VCALENDAR
VERSION:2.0
PRODID:-//Squarespace Inc/Squarespace 6//v6//EN
BEGIN:VEVENT
UID:5a865e2d53450abff5bc2bda@squarespace.com
DTSTAMP:20200225T055629Z
DTSTART:20200303T074500Z
DTEND:20200407T084500Z
SUMMARY:Pregnancy Yoga Course - Wynnum
GEO:-27.445362;153.175668
LOCATION:Inna Bliss yoga - Wynnum\, 2/182 Bay Terrace\, Wynnum\, QLD\, 4178
 \, Australia
END:VEVENT
END:VCALENDAR
