BEGIN:VCALENDAR
VERSION:2.0
PRODID:-//Squarespace Inc/Squarespace 6//v6//EN
BEGIN:VEVENT
UID:5a8661358165f5f7f8e5ef77@squarespace.com
DTSTAMP:20200219T042750Z
DTSTART:20200304T080000Z
DTEND:20200408T090000Z
SUMMARY:Pregnancy Yoga Course - Camp Hill
GEO:-27.497484;153.068073
LOCATION:Inna Bliss Yoga - Camp Hill\, 4 Newman Avenue\, Camp Hill\, QLD\, 
 4152\, Australia
END:VEVENT
END:VCALENDAR
